BEGIN:VCALENDAR
VERSION:2.0
PRODID:-//ChamberMaster//Event Calendar 2.0//EN
METHOD:PUBLISH
X-PUBLISHED-TTL:P3D
REFRESH-INTERVAL:P3D
CALSCALE:GREGORIAN
BEGIN:VEVENT
DTSTART:20260521T220000Z
DTEND:20260521T230000Z
X-MICROSOFT-CDO-ALLDAYEVENT:FALSE
SUMMARY:2026 The Local Social - Hosted by Bootleggers Cookhouse
DESCRIPTION:Join us for The Local Social\, a family-friendly Business After Hours event designed to bring our community together!\n\nWe're heading to Bootleggers Cookhouse Backyard for an evening of connection\, conversation\, and fun. Whether you're looking to network\, unwind\, or bring the family along\, this event has something for everyone.\n\nEnjoy live music\, delicious appetizers\, and the chance to connect with fellow Chamber members and community leaders in a relaxed outdoor setting.\n\n  Thursday\, May 21st\n\n  5:00 PM   6:00 PM\n\n  Bootleggers Backyard\, Downtown Albertville\n\nRSVP today!
X-ALT-DESC;FMTTYPE=text/html:<p data-end="203" data-start="80">Join us for <strong data-end="112" data-start="92">The Local Social\,</strong>&nbsp\;a family-friendly Business After Hours event designed to bring our community together!</p>\n\n<p data-end="416" data-start="205">We&rsquo\;re heading to Bootleggers Cookhouse Backyard for an evening of connection\, conversation\, and fun. Whether you&#39\;re looking to network\, unwind\, or bring the family along\, this event has something for everyone.</p>\n\n<p data-end="565" data-start="418">Enjoy live music\, delicious appetizers\, and the chance to connect with fellow Chamber members and community leaders in a relaxed outdoor setting.</p>\n\n<p data-end="660" data-start="567">&#128197\; Thursday\, May 21st<br data-end="591" data-start="588" />\n&#9200\; 5:00 PM &ndash\; 6:00 PM<br data-end="613" data-start="610" />\n&#128205\; Bootleggers Backyard\, Downtown Albertville</p>\n\n<p data-end="702" data-start="662">RSVP today!</p>\n
LOCATION:
UID:e.2290.2297
SEQUENCE:3
DTSTAMP:20260424T002421Z
URL:https://business.albertvillechamberofcommerce.com/events/details/2026-the-local-social-hosted-by-bootleggers-cookhouse-2297
END:VEVENT

END:VCALENDAR
